BEGIN:VCALENDAR
VERSION:2.0
PRODID:-//eventon.com NONSGML v1.0//EN
CALSCALE:GREGORIAN
METHOD:PUBLISH
BEGIN:VEVENT
UID:69e508495afff
DTSTAMP:20260419T185225
DTSTART:20191108T000000Z
DTEND:20191110T000000Z
TZID:UTC
LOCATION:
SUMMARY:Break The Tango
DESCRIPTION:Break The Tango : la symbiose entre la tradition et la modernité. Le tango\,  le breakdance avec pour seul point commun : la rue. Les traditions sont brisées et de nouveaux mouvements voient le jour. Les Créoles gaucho de l’arrière-pays argentin et les immigrants européens ont transformé Buenos Aires en un[..]\nhttps://www.lfm.ch/evenements/break-the-tango/
URL:https://www.lfm.ch/evenements/break-the-tango/
END:VEVENT
END:VCALENDAR