BEGIN:VCALENDAR
VERSION:2.0
PRODID:-//eventon.com NONSGML v1.0//EN
CALSCALE:GREGORIAN
METHOD:PUBLISH
BEGIN:VEVENT
UID:69e93f3f91f13
DTSTAMP:20260422T233559
DTSTART:20210922
DTEND:20211004
TZID:UTC
LOCATION:
SUMMARY:20KM de Lausanne - 2021
DESCRIPTION:Les 20KM de Lausanne\,  c'est: Des courses réparties du 22 septembre au 3 octobre. Un nombre de dossards limité à 15’000. Départ et arrivée à la Piscine de Bellerive. Une nouvelle distance de 5 km ouverte à toutes et à tous. Des courses de nuit sur 5 et 10 km. &gt;&gt; Plus d'infos[..]\nhttps://www.lfm.ch/evenements/20km-de-lausanne-2021/
URL:https://www.lfm.ch/evenements/20km-de-lausanne-2021/
END:VEVENT
END:VCALENDAR