BEGIN:VCALENDAR
VERSION:2.0
PRODID:-//eventon.com NONSGML v1.0//EN
CALSCALE:GREGORIAN
METHOD:PUBLISH
BEGIN:VEVENT
UID:69e5aed6d54e3
DTSTAMP:20260420T064302
DTSTART:20230304
DTEND:20230305
TZID:UTC
LOCATION:
SUMMARY:Oron Mad Village\,  9ème édition
DESCRIPTION:Le Mad est dans le pré &nbsp; Le Club des Lutteurs de la Haute-Broye\,  en collaboration avec le MAD de Lausanne\,  organise la 9ème édition du Mad Village à la Salle polyvalente d'Oron-la-Ville. Un concept à l'origine ayant pour objectif l'organisation d'une soirée pour les quarantenaires de la région. Dès[..]\nhttps://www.lfm.ch/evenements/oron-mad-village-9eme-edition/
URL:https://www.lfm.ch/evenements/oron-mad-village-9eme-edition/
END:VEVENT
END:VCALENDAR