BEGIN:VCALENDAR
VERSION:2.0
PRODID:-//eventon.com NONSGML v1.0//EN
CALSCALE:GREGORIAN
METHOD:PUBLISH
BEGIN:VEVENT
UID:69e5efafd946b
DTSTAMP:20260420T111943
DTSTART:20230712
DTEND:20230717
TZID:UTC
LOCATION:
SUMMARY:Sion sous les étoiles
DESCRIPTION:8ème édition de l'open-air &nbsp; Au vu du succès de fréquentation en 2022 avec près de 54'000 spectateurs\,  Sion sous les étoiles revient cette année dans une version allongée proposant 5 soirées du 12 au 16 juillet. La manifestation présente une nouvelle fois sur la plaine de Tourbillon proposera une[..]\nhttps://www.lfm.ch/evenements/sion-sous-les-etoiles/
URL:https://www.lfm.ch/evenements/sion-sous-les-etoiles/
END:VEVENT
END:VCALENDAR