BEGIN:VCALENDAR
VERSION:2.0
PRODID:-//eventon.com NONSGML v1.0//EN
CALSCALE:GREGORIAN
METHOD:PUBLISH
BEGIN:VEVENT
UID:69e65be93e6be
DTSTAMP:20260420T190129
DTSTART:20230928
DTEND:20231002
TZID:UTC
LOCATION:
SUMMARY:Lausanne Art Fair 2023
DESCRIPTION:Foire internationale d'art contemporain &nbsp; Du 28 septembre au 1er octobre 2023\,  Beaulieu accueille la 6ème édition de Lausanne Art Fair. 100 galeries sélectionnées proposeront plus de 3000 œuvres exigeantes\,  de talents reconnus ou émergents. Parmi celles-ci des photographies\,  des peintures\,  sculptures et céramiques seront proposées aux visiteurs et également[..]\nhttps://www.lfm.ch/evenements/lausanne-art-fair-2023/
URL:https://www.lfm.ch/evenements/lausanne-art-fair-2023/
END:VEVENT
END:VCALENDAR