BEGIN:VCALENDAR
VERSION:2.0
PRODID:-//eventon.com NONSGML v1.0//EN
CALSCALE:GREGORIAN
METHOD:PUBLISH
BEGIN:VEVENT
UID:69e78fe452028
DTSTAMP:20260421T165532
DTSTART:20250503
DTEND:20250505
TZID:UTC
LOCATION:
SUMMARY:43ème édition des 20KM de Lausanne
DESCRIPTION:La course a lieu les 3 et 4 mai &nbsp; L'an dernier plus de 27'000 coureurs et marcheurs étaient au rendez-vous de l'édition 2024 des 20KM de Lausanne. Des participants attendus de pied ferme\,  cette année\,  afin de participer à cet événement sportif vaudois. Au programme de cette 43ème édition[..]\nhttps://www.lfm.ch/evenements/43eme-edition-des-20km-de-lausanne/
URL:https://www.lfm.ch/evenements/43eme-edition-des-20km-de-lausanne/
END:VEVENT
END:VCALENDAR